BEGIN:VCALENDAR
VERSION:2.0
PRODID:DPCALENDAR
CALSCALE:GREGORIAN
BEGIN:VTIMEZONE
TZID:Europe/Berlin
X-MICROSOFT-CDO-TZID:4
BEGIN:STANDARD
DTSTART:20251026T010000
TZOFFSETFROM:+0200
TZOFFSETTO:+0100
TZNAME:CET
END:STANDARD
BEGIN:STANDARD
DTSTART:20261025T010000
TZOFFSETFROM:+0200
TZOFFSETTO:+0100
TZNAME:CET
END:STANDARD
BEGIN:DAYLIGHT
DTSTART:20260329T010000
TZOFFSETFROM:+0100
TZOFFSETTO:+0200
TZNAME:CEST
END:DAYLIGHT
END:VTIMEZONE
X-WR-TIMEZONE:Europe/Berlin
BEGIN:VEVENT
DTSTART;TZID=Europe/Berlin:20241012T100000
DTEND;TZID=Europe/Berlin:20241012T160000
UID:815174C4-9F85-45A6-B49E-B72CFDDE47B9
SUMMARY:Blaulichttag & Tag des offenen Rathauses
CREATED:20240927T074041Z
DTSTAMP:20240927T074041Z
URL:https://www.schramberg.de/de/aktuelles/veranstaltungen/termine/Tag-der-offenen-Tuer-Rathaus.php
DESCRIPTION:Am Samstag, 12.10.2024 öffnen Rathaus und City Center ihre Türen für die Öffentlichkeit. Außerdem präsentieren sich Blaulichtorganisationen in der Innenstadt. „Einen Tag der offenen Tür in dieser Kombination gab es bisher in Schramberg noch nie,“ sagt Oberbürgermeisterin Dorothee Eisenlohr. „Wir sind schon lange am Planen und freuen uns auf möglichst viele Besucher.“ Geboten sein wird Einiges: Die verschiedenen Fachbereiche und Abteilungen der Stadtverwaltung werden sich in diesem Rahmen vorstellen und haben sich bereits die eine oder andere Überraschung ausgedacht. Eröffnet wird dieser Tag durch die Turmbläser der Stadtmusik um 10 Uhr. Danach können alle Interessierten bei hoffentlich gutem Wetter den Rathausturm besteigen. Parallel zu diesem „Tag der offenen Tür“ wird es um Rathaus und City Center herum, sowie in der Fußgängerzone einen sogenannten „Blaulichttag“ geben. Hier werden Polizei, DRK, THW, Katastrophenschutz Landkreis Rottweil, Verkehrswacht und Feuerwehr präsent sein. Die Bandbreite reicht von der Hundestaffel der Polizei hinter dem Rathaus, einem Flugplatz-Feuerwehr-LKW bis zum Rettungshubschrauber, der auf dem Parkplatz beim Busbahnhof besichtigt werden kann. Wo der Wochenmarkt an diesem Tag stattfindet, wird noch mitgeteilt. Im City Center gibt es ein Faires Café des Schramberger Weltladenvereins, im Rathaus Kaffee und Kuchen von der Peter-Meyer-Schule. Auf dem Vorplatz des Feuerwehrgerätehauses wird es einen Bierstand und eine Essensstation der Da-Bach-na-Fahrer geben.
X-ALT-DESC;FMTTYPE=text/html:<p>Am Samstag, 12.10.2024 öffnen Rathaus und City Center ihre Türen für die Öffentlichkeit. Außerdem präsentieren sich Blaulichtorganisationen in der Innenstadt. „Einen Tag der offenen Tür in dieser Kombination gab es bisher in Schramberg noch nie,“ sagt Oberbürgermeisterin Dorothee Eisenlohr. „Wir sind schon lange am Planen und freuen uns auf möglichst viele Besucher.“ Geboten sein wird Einiges: Die verschiedenen Fachbereiche und Abteilungen der Stadtverwaltung werden sich in diesem Rahmen vorstellen und haben sich bereits die eine oder andere Überraschung ausgedacht. Eröffnet wird dieser Tag durch die Turmbläser der Stadtmusik um 10 Uhr. Danach können alle Interessierten bei hoffentlich gutem Wetter den Rathausturm besteigen. Parallel zu diesem „Tag der offenen Tür“ wird es um Rathaus und City Center herum, sowie in der Fußgängerzone einen sogenannten „Blaulichttag“ geben. Hier werden Polizei, DRK, THW, Katastrophenschutz Landkreis Rottweil, Verkehrswacht und Feuerwehr präsent sein. Die Bandbreite reicht von der Hundestaffel der Polizei hinter dem Rathaus, einem Flugplatz-Feuerwehr-LKW bis zum Rettungshubschrauber, der auf dem Parkplatz beim Busbahnhof besichtigt werden kann. Wo der Wochenmarkt an diesem Tag stattfindet, wird noch mitgeteilt. Im City Center gibt es ein Faires Café des Schramberger Weltladenvereins, im Rathaus Kaffee und Kuchen von der Peter-Meyer-Schule. Auf dem Vorplatz des Feuerwehrgerätehauses wird es einen Bierstand und eine Essensstation der Da-Bach-na-Fahrer geben.</p>
LAST-MODIFIED:20240927T084717Z
SEQUENCE:3996
LOCATION:Am Mühlegraben 11\, 78713 Schramberg\, Deutschland\; Hauptstraße 26\, 78713 Schramberg
GEO:48.22381835;8.38566346
X-LOCATION-DISPLAYNAME:Gerätehaus Schramberg, Stadtmitte Schramberg
X-ACCESS:1
X-HITS:785
X-COLOR:e2001a
X-IMAGE-FULL:https://feuerwehr-schramberg.de/images/blaulichttag2024_sbg.png
X-IMAGE-INTRO:https://feuerwehr-schramberg.de/images/blaulichttag2024_sbg.png
X-SHOW-END-TIME:1
END:VEVENT
BEGIN:VEVENT
DTSTART;TZID=Europe/Berlin:20241024T200000
DTEND;TZID=Europe/Berlin:20241024T220000
UID:4BEC08DE-AB8A-4DDC-9625-676856590824
SUMMARY:Vorstellung Feuerwehrbedarfsplan
CREATED:20240927T093352Z
DTSTAMP:20240927T093352Z
URL:https://feuerwehr-schramberg.de/termine/vorstellung-feuerwehrbedarfsplan
DESCRIPTION:Nur für aktive Kameraden der Freiwilligen Feuerwehr Schramberg
X-ALT-DESC;FMTTYPE=text/html:<p>Nur für aktive Kameraden der Freiwilligen Feuerwehr Schramberg</p>
LAST-MODIFIED:20240927T093443Z
SEQUENCE:51
LOCATION:Berneckstraße 32\, 78713 Schramberg
GEO:48.22121905;8.38565251
X-LOCATION-DISPLAYNAME:Aula des Gymnasiums
X-ACCESS:1
X-HITS:738
X-COLOR:e2001a
X-SHOW-END-TIME:0
END:VEVENT
BEGIN:VEVENT
DTSTART;TZID=Europe/Berlin:20241122T200000
DTEND;TZID=Europe/Berlin:20241122T220000
UID:70FE6C45-29C1-4D5A-97E4-8F9361BEBBAF
SUMMARY:Hauptversammlung Abt. Heiligenbronn
CREATED:20240927T090704Z
DTSTAMP:20240927T090704Z
URL:https://feuerwehr-schramberg.de/termine/hauptversammlung-abt-heiligenbronn
LAST-MODIFIED:20240927T090718Z
SEQUENCE:14
X-ACCESS:1
X-HITS:519
X-COLOR:e2001a
X-SHOW-END-TIME:0
END:VEVENT
BEGIN:VEVENT
DTSTART;TZID=Europe/Berlin:20241129T200000
DTEND;TZID=Europe/Berlin:20241129T220000
UID:3ADBC52D-940D-486D-8AA1-B07BF6E8F206
SUMMARY:Hauptversammlung Abt. Sulgen
CREATED:20240927T085558Z
DTSTAMP:20240927T085558Z
URL:https://feuerwehr-schramberg.de/termine/hauptversammlung-abt-sulgen
LAST-MODIFIED:20240927T085558Z
SEQUENCE:0
LOCATION:Rottweiler Straße  58/1\, 78713 Schramberg\, Deutschland
GEO:48.22582000;8.43070105
X-LOCATION-DISPLAYNAME:Gerätehaus Sulgen
X-ACCESS:1
X-HITS:523
X-COLOR:e2001a
X-SHOW-END-TIME:0
END:VEVENT
BEGIN:VEVENT
DTSTART;TZID=Europe/Berlin:20241206T200000
DTEND;TZID=Europe/Berlin:20241206T220000
UID:8B89F904-1147-41DC-B4D8-7D7AAE96A9A3
SUMMARY:Hauptversammlung Abt. Waldmössingen
CREATED:20240927T090750Z
DTSTAMP:20240927T090750Z
URL:https://feuerwehr-schramberg.de/termine/hauptversammlung-abt-waldmoessingen
LAST-MODIFIED:20240927T090750Z
SEQUENCE:0
LOCATION:Seedorfer Straße 3\, 78713 Schramberg\, Deutschland
GEO:48.26871554;8.48620892
X-LOCATION-DISPLAYNAME:Gerätehaus Waldmössingen
X-ACCESS:1
X-HITS:563
X-COLOR:e2001a
X-SHOW-END-TIME:0
END:VEVENT
BEGIN:VEVENT
DTSTART;TZID=Europe/Berlin:20241213T200000
DTEND;TZID=Europe/Berlin:20241213T230000
UID:ECB213B4-59FF-4894-9037-D9F9D852ED75
SUMMARY:Hauptversammlung Abt. Schramberg
CREATED:20240927T082504Z
DTSTAMP:20240927T082504Z
URL:https://feuerwehr-schramberg.de/termine/hauptversammlung-abt-schramberg
LAST-MODIFIED:20240927T082504Z
SEQUENCE:0
LOCATION:Am Mühlegraben 11\, 78713 Schramberg\, Deutschland
GEO:48.22381835;8.38566346
X-LOCATION-DISPLAYNAME:Gerätehaus Schramberg
X-ACCESS:1
X-HITS:531
X-COLOR:e2001a
X-SHOW-END-TIME:0
END:VEVENT
BEGIN:VEVENT
DTSTART;TZID=Europe/Berlin:20250110T200000
DTEND;TZID=Europe/Berlin:20250110T220000
UID:336DDEBA-1A04-4B2D-B588-A4AD8E9DC400
SUMMARY:Hauptversammlung Abt. Tennenbronn
CREATED:20240927T090818Z
DTSTAMP:20240927T090818Z
URL:https://feuerwehr-schramberg.de/termine/hauptversammlung-abt-tennenbronn
LAST-MODIFIED:20240927T090818Z
SEQUENCE:0
LOCATION:Schiltachstraße 2\, 78144 Schramberg\, Deutschland
GEO:48.18903050;8.34909312
X-LOCATION-DISPLAYNAME:Gerätehaus Tennenbronn
X-ACCESS:1
X-HITS:891
X-COLOR:e2001a
X-SHOW-END-TIME:0
END:VEVENT
BEGIN:VEVENT
DTSTART;VALUE=DATE:20250304
DTEND;VALUE=DATE:20250305
UID:C1EB0059-7C07-4B9A-A287-EDB86028AD08
SUMMARY:Schlachtplatte der Abt. Waldmössingen
CREATED:20250127T142117Z
DTSTAMP:20250127T142117Z
URL:https://feuerwehr-schramberg.de/termine/schlachtplatte-der-abt-waldmoessingen
LAST-MODIFIED:20250127T142948Z
SEQUENCE:511
LOCATION:Seedorfer Straße 3\, 78713 Schramberg\, Deutschland
GEO:48.26871554;8.48620892
X-LOCATION-DISPLAYNAME:Gerätehaus Waldmössingen
X-ACCESS:1
X-HITS:686
X-COLOR:e2001a
X-SHOW-END-TIME:0
END:VEVENT
BEGIN:VEVENT
DTSTART;TZID=Europe/Berlin:20250328T200000
DTEND;TZID=Europe/Berlin:20250328T220000
UID:293C9946-64AD-4452-BD82-AEAC6D6FAA60
SUMMARY:Hauptversammlung Gesamtwehr
CREATED:20241016T061531Z
DTSTAMP:20241016T061531Z
URL:https://feuerwehr-schramberg.de/termine/hauptversammlung-gesamtwehr
DESCRIPTION:Hauptversammlung 2024 der Gesamtfeuerwehr SchrambergNur für geladene Gäste und Mitglieder der Feuerwehr Schramberg
X-ALT-DESC;FMTTYPE=text/html:<p><strong>Hauptversammlung 2024 der Gesamtfeuerwehr Schramberg</strong><br>Nur für geladene Gäste und Mitglieder der Feuerwehr Schramberg</p>
LAST-MODIFIED:20250327T140624Z
SEQUENCE:14025053
LOCATION:Marktstraße 7\, 78713 Schramberg\, Baden-Württemberg\, Deutschland
GEO:48.22677260;8.38532440
X-LOCATION-DISPLAYNAME:Bärensaal Schramberg
X-ACCESS:1
X-HITS:1365
X-COLOR:e2001a
X-SHOW-END-TIME:0
END:VEVENT
BEGIN:VEVENT
DTSTART;TZID=Europe/Berlin:20250412T200000
DTEND;TZID=Europe/Berlin:20250412T230000
UID:4333EC60-D934-4B32-B796-B569723050D3
SUMMARY:Blaulichtparty Abt. Tennenbronn
CREATED:20241219T082517Z
DTSTAMP:20241219T082517Z
URL:https://feuerwehr-schramberg.de/termine/blaulichtparty-abt-tennenbronn
DESCRIPTION:Barbetrieb und WeizenstandEintritt 1,- €
X-ALT-DESC;FMTTYPE=text/html:<p>Barbetrieb und Weizenstand<br>Eintritt 1,- €</p>
LAST-MODIFIED:20250317T094258Z
SEQUENCE:7607861
LOCATION:Schiltachstraße 2\, 78144 Schramberg\, Deutschland
GEO:48.18903050;8.34909312
X-LOCATION-DISPLAYNAME:Gerätehaus Tennenbronn
X-ACCESS:1
X-HITS:1112
X-COLOR:e2001a
X-IMAGE-FULL:https://feuerwehr-schramberg.de/images/tennenbronn/482085483_1218904106902692_7796911103369865957_n.jpeg
X-SHOW-END-TIME:0
END:VEVENT
BEGIN:VEVENT
DTSTART;TZID=Europe/Berlin:20250614T160000
DTEND;TZID=Europe/Berlin:20250614T233000
UID:D2B7695E-8C14-4B9B-A3E5-8E8ADF8A17E2
SUMMARY:Frühlingsfest der Abteilung Schramberg
CREATED:20250317T100613Z
DTSTAMP:20250317T100613Z
URL:https://feuerwehr-schramberg.de/termine/fruehlingsfest-der-abteilung-schramberg
LAST-MODIFIED:20250425T111247Z
SEQUENCE:3373594
LOCATION:Am Mühlegraben 11\, 78713 Schramberg\, Deutschland
GEO:48.22381835;8.38566346
X-LOCATION-DISPLAYNAME:Gerätehaus Schramberg
X-ACCESS:1
X-HITS:1386
X-COLOR:e2001a
X-IMAGE-FULL:https://feuerwehr-schramberg.de/images/schramberg/FRUHLINGSFEST_A3_2025.jpg
X-SHOW-END-TIME:0
END:VEVENT
BEGIN:VEVENT
DTSTART;TZID=Europe/Berlin:20250615T110000
DTEND;TZID=Europe/Berlin:20250615T200000
UID:DD0394F1-AFFA-4450-BBA7-40AB51AC5E4C
SUMMARY:Frühlingsfest der Abteilung Schramberg
CREATED:20250317T100613Z
DTSTAMP:20250317T100613Z
URL:https://feuerwehr-schramberg.de/termine/fruehlingsfest-der-abteilung-schramberg-2
LAST-MODIFIED:20250425T111217Z
SEQUENCE:3373564
LOCATION:Am Mühlegraben 11\, 78713 Schramberg\, Deutschland
GEO:48.22381835;8.38566346
X-LOCATION-DISPLAYNAME:Gerätehaus Schramberg
X-ACCESS:1
X-HITS:974
X-COLOR:e2001a
X-IMAGE-FULL:https://feuerwehr-schramberg.de/images/schramberg/FRUHLINGSFEST_A3_2025.jpg
X-SHOW-END-TIME:0
END:VEVENT
BEGIN:VEVENT
DTSTART;TZID=Europe/Berlin:20250905T160000
DTEND;TZID=Europe/Berlin:20250906T235900
UID:D8AC5EF4-D632-413F-8FFF-7DE6B78E97BF
SUMMARY:Zwetschgenmarkt Heiligenbronn
CREATED:20250327T140903Z
DTSTAMP:20250327T140903Z
URL:https://feuerwehr-schramberg.de/termine/zwetschgenmarkt-heiligenbronn
DESCRIPTION:\NFreitag, 05. September 2025Fassanstich und Schlachtplatte ab 16 Uhr.\N \NSamstag, 06. September 2025Jahrmarkt ab 8 Uhr.Bewirtung im Festzelt ab 10:30 Uhr.\N \NAn den 2 Tagen erwartet Euch ein reichhaltiges Speisen- undGetränkeangebot inkl. Schlachtplatte im beheizten Festzelt.
X-ALT-DESC;FMTTYPE=text/html:<p><!-- wp:paragraph --></p><p><strong>Freitag, 05. September 2025</strong><br>Fassanstich und Schlachtplatte ab 16 Uhr.</p><p><!-- /wp:paragraph --> <!-- wp:paragraph --></p><p><strong>Samstag, 06. September 2025</strong><br>Jahrmarkt ab 8 Uhr.<br>Bewirtung im Festzelt ab 10:30 Uhr.</p><p><!-- /wp:paragraph --> <!-- wp:paragraph --></p><p>An den 2 Tagen erwartet Euch ein reichhaltiges Speisen- und<br>Getränkeangebot inkl. Schlachtplatte im beheizten Festzelt.<!-- /wp:paragraph --></p>
LAST-MODIFIED:20250904T140127Z
SEQUENCE:13909944
LOCATION:Kloster\, 78713 Schramberg\, Baden-Württemberg\, Deutschland
GEO:48.25902711;8.44833612
X-LOCATION-DISPLAYNAME:Festplatz Heiligenbronn
X-ACCESS:1
X-HITS:7347
X-COLOR:e2001a
X-IMAGE-FULL:https://feuerwehr-schramberg.de/images/heiligenbronn/2025_zwetschgenmarkt.jpg
X-SHOW-END-TIME:1
END:VEVENT
BEGIN:VEVENT
DTSTART;TZID=Europe/Berlin:20251121T200000
DTEND;TZID=Europe/Berlin:20251121T210000
UID:EC74A63B-A8C7-409E-93DD-FB99C50493AF
SUMMARY:Hauptversammlung Abt. Heiligenbronn
CREATED:20250320T121527Z
DTSTAMP:20250320T121527Z
URL:https://feuerwehr-schramberg.de/termine/hauptversammlung-abt-heiligenbronn-2
LAST-MODIFIED:20250320T122804Z
SEQUENCE:757
LOCATION:Waldmössinger Straße 53/2\, 78713 Schramberg\, Deutschland
GEO:48.25625155;8.44900759
X-LOCATION-DISPLAYNAME:Gerätehaus Heiligenbronn
X-ACCESS:1
X-HITS:1458
X-COLOR:e2001a
X-SHOW-END-TIME:0
END:VEVENT
BEGIN:VEVENT
DTSTART;TZID=Europe/Berlin:20251128T200000
DTEND;TZID=Europe/Berlin:20251128T220000
UID:C09092A1-72A5-4DE1-BDA4-C9F8DBCB9F0F
SUMMARY:Hauptversammlung Abt. Sulgen
CREATED:20250121T114437Z
DTSTAMP:20250121T114437Z
URL:https://feuerwehr-schramberg.de/termine/hauptversammlung-abt-sulgen-2
LAST-MODIFIED:20250121T121713Z
SEQUENCE:1956
LOCATION:Rottweiler Straße  58/1\, 78713 Schramberg\, Deutschland
GEO:48.22582000;8.43070105
X-LOCATION-DISPLAYNAME:Gerätehaus Sulgen
X-ACCESS:1
X-HITS:1539
X-COLOR:e2001a
X-SHOW-END-TIME:0
END:VEVENT
BEGIN:VEVENT
DTSTART;TZID=Europe/Berlin:20251205T200000
DTEND;TZID=Europe/Berlin:20251205T220000
UID:90F6CF2D-3C1F-4D3E-81C6-33CB4A8BE1F8
SUMMARY:Hauptversammlung Abt. Waldmössingen
CREATED:20250121T114437Z
DTSTAMP:20250121T114437Z
URL:https://feuerwehr-schramberg.de/termine/hauptversammlung-abt-waldmoessingen-2
LAST-MODIFIED:20250127T143029Z
SEQUENCE:528352
LOCATION:Seedorfer Straße 3\, 78713 Schramberg\, Deutschland
GEO:48.26871554;8.48620892
X-LOCATION-DISPLAYNAME:Gerätehaus Waldmössingen
X-ACCESS:1
X-HITS:1588
X-COLOR:e2001a
X-SHOW-END-TIME:0
END:VEVENT
BEGIN:VEVENT
DTSTART;TZID=Europe/Berlin:20251212T200000
DTEND;TZID=Europe/Berlin:20251212T220000
UID:8EF54138-D37C-454D-9B09-928194011252
SUMMARY:Hauptversammlung Abt. Schramberg
CREATED:20240927T090818Z
DTSTAMP:20240927T090818Z
URL:https://feuerwehr-schramberg.de/termine/hauptversammlung-abt-schramberg-2
LAST-MODIFIED:20250108T081712Z
SEQUENCE:8896134
LOCATION:Am Mühlegraben 11\, 78713 Schramberg\, Deutschland
GEO:48.22381835;8.38566346
X-LOCATION-DISPLAYNAME:Gerätehaus Schramberg
X-ACCESS:1
X-HITS:1450
X-COLOR:e2001a
X-SHOW-END-TIME:0
END:VEVENT
BEGIN:VEVENT
DTSTART;TZID=Europe/Berlin:20260109T200000
DTEND;TZID=Europe/Berlin:20260109T220000
UID:12B3647F-9036-47CD-B305-15DE92BFD906
SUMMARY:Hauptversammlung Abt. Tennenbronn
CREATED:20240927T090818Z
DTSTAMP:20240927T090818Z
URL:https://feuerwehr-schramberg.de/termine/hauptversammlung-abt-tennenbronn-2
LAST-MODIFIED:20250320T123833Z
SEQUENCE:15046215
LOCATION:Schiltachstraße 2\, 78144 Schramberg\, Deutschland
GEO:48.18903050;8.34909312
X-LOCATION-DISPLAYNAME:Gerätehaus Tennenbronn
X-ACCESS:1
X-HITS:1503
X-COLOR:e2001a
X-SHOW-END-TIME:0
END:VEVENT
BEGIN:VEVENT
DTSTART;VALUE=DATE:20260217
DTEND;VALUE=DATE:20260218
UID:7E427774-800F-49AC-A709-0CF6CC84AA5E
SUMMARY:Schlachtplatte der Abt. Waldmössingen
CREATED:20260204T075753Z
DTSTAMP:20260204T075753Z
URL:https://feuerwehr-schramberg.de/termine/schlachtplatte-der-abt-waldmoessingen-2
LAST-MODIFIED:20260204T080715Z
SEQUENCE:562
LOCATION:Seedorfer Straße 3\, 78713 Schramberg\, Deutschland
GEO:48.26871554;8.48620892
X-LOCATION-DISPLAYNAME:Gerätehaus Waldmössingen
X-ACCESS:1
X-HITS:382
X-COLOR:e2001a
X-SHOW-END-TIME:0
END:VEVENT
BEGIN:VEVENT
DTSTART;TZID=Europe/Berlin:20260417T200000
DTEND;TZID=Europe/Berlin:20260417T230000
UID:7F83AB09-B734-4359-8AEF-1B378DE36994
SUMMARY:Hauptversammlung Gesamtwehr
CREATED:20251106T152152Z
DTSTAMP:20251106T152152Z
URL:https://feuerwehr-schramberg.de/termine/hauptversammlung-gesamtwehr-2
LAST-MODIFIED:20251106T152258Z
SEQUENCE:66
LOCATION:Sulgauer Straße 7/1\, 78713 Schramberg\, Baden-Württemberg\, Deutschland
GEO:48.22650710;8.42174710
X-LOCATION-DISPLAYNAME:Turn- und Festhalle Sulgen
X-ACCESS:1
X-HITS:899
X-COLOR:e2001a
X-SHOW-END-TIME:0
END:VEVENT
BEGIN:VEVENT
DTSTART;TZID=Europe/Berlin:20260425T200000
DTEND;TZID=Europe/Berlin:20260425T233000
UID:9434B304-E38B-4D9D-8B76-193FD2E0DD31
SUMMARY:Blaulichtparty Abt. Tennenbronn
CREATED:20260218T082341Z
DTSTAMP:20260218T082341Z
URL:https://feuerwehr-schramberg.de/termine/blaulichtparty-abt-tennenbronn-2
DESCRIPTION:Die Feuerwehrabteilung Tennenbronn lädt herzlich zur legendären Blaulicht Party ein!Am 25.04.2026 heißt es ab 20:00 Uhr feiern, tanzen und gute Laune genießen.\NHappy Hour gibt es bis 21:00 Uhr am Pilsstand, also früh kommen lohnt sich!Für das leibliche Wohl ist selbstverständlich bestens gesorgt.Wie jedes Jahr erwartet euch gute Musik, ausgelassene Stimmung und eine unvergessliche Party-Nacht im Zeichen des Blaulichts.\NDie Feuerwehrabteilung Tennenbronn freut sich auf zahlreiche Besucher und einen großartigen Abend mit euch.Kommt vorbei, wir freuen uns auf euren Besuch!
X-ALT-DESC;FMTTYPE=text/html:<p>Die Feuerwehrabteilung Tennenbronn lädt herzlich zur legendären Blaulicht Party ein!<br>Am 25.04.2026 heißt es ab 20:00 Uhr feiern, tanzen und gute Laune genießen.</p><p>Happy Hour gibt es bis 21:00 Uhr am Pilsstand, also früh kommen lohnt sich!<br>Für das leibliche Wohl ist selbstverständlich bestens gesorgt.<br>Wie jedes Jahr erwartet euch gute Musik, ausgelassene Stimmung und eine unvergessliche Party-Nacht im Zeichen des Blaulichts.</p><p>Die Feuerwehrabteilung Tennenbronn freut sich auf zahlreiche Besucher und einen großartigen Abend mit euch.<br>Kommt vorbei, wir freuen uns auf euren Besuch!</p>
LAST-MODIFIED:20260218T082455Z
SEQUENCE:74
LOCATION:Schiltachstraße 2\, 78144 Schramberg\, Deutschland
GEO:48.18903050;8.34909312
X-LOCATION-DISPLAYNAME:Gerätehaus Tennenbronn
X-ACCESS:1
X-HITS:585
X-COLOR:e2001a
X-IMAGE-FULL:https://feuerwehr-schramberg.de/images/tennenbronn/2026-04-25_blaulicht_tb.webp
X-SHOW-END-TIME:0
END:VEVENT
BEGIN:VEVENT
DTSTART;VALUE=DATE:20260530
DTEND;VALUE=DATE:20260601
UID:E0D30DBF-00F5-4413-BC93-8AF348A94093
SUMMARY:Frühlingsfest der Abteilung Schramberg
CREATED:20260114T102344Z
DTSTAMP:20260114T102344Z
URL:https://feuerwehr-schramberg.de/termine/fruehlingsfest-der-abteilung-schramberg-3
LAST-MODIFIED:20260409T072103Z
SEQUENCE:7333039
LOCATION:Am Mühlegraben 11\, 78713 Schramberg\, Deutschland
GEO:48.22381835;8.38566346
X-LOCATION-DISPLAYNAME:Gerätehaus Schramberg
X-ACCESS:1
X-HITS:577
X-COLOR:e2001a
X-IMAGE-FULL:https://feuerwehr-schramberg.de/images/schramberg/FRUHLINGSFEST_A3_2026.webp
X-SHOW-END-TIME:0
END:VEVENT
BEGIN:VEVENT
DTSTART;VALUE=DATE:20260802
DTEND;VALUE=DATE:20260804
UID:7C85C392-5EA7-41F9-9A1F-113AFE3BAF14
SUMMARY:Gartenfest der Abt. Waldmössingen
CREATED:20260204T075753Z
DTSTAMP:20260204T075753Z
URL:https://feuerwehr-schramberg.de/termine/gartenfest-der-abt-waldmoessingen
LAST-MODIFIED:20260204T080739Z
SEQUENCE:586
LOCATION:Seedorfer Straße 3\, 78713 Schramberg\, Deutschland
GEO:48.26871554;8.48620892
X-LOCATION-DISPLAYNAME:Gerätehaus Waldmössingen
X-ACCESS:1
X-HITS:457
X-COLOR:e2001a
X-SHOW-END-TIME:0
END:VEVENT
BEGIN:VEVENT
DTSTART;VALUE=DATE:20260829
DTEND;VALUE=DATE:20260901
UID:AE06B1FA-E54E-4ACE-BB1E-4DA7FF55B1AA
SUMMARY:Sommerfest der Abteilung Sulgen
CREATED:20260204T080959Z
DTSTAMP:20260204T080959Z
URL:https://feuerwehr-schramberg.de/termine/sommerfest-der-abteilung-sulgen
DESCRIPTION:Infos folgen
X-ALT-DESC;FMTTYPE=text/html:<p>Infos folgen</p>
LAST-MODIFIED:20260204T080959Z
SEQUENCE:0
LOCATION:Rottweiler Straße  58/1\, 78713 Schramberg\, Deutschland
GEO:48.22582000;8.43070105
X-LOCATION-DISPLAYNAME:Gerätehaus Sulgen
X-ACCESS:1
X-HITS:494
X-COLOR:e2001a
X-SHOW-END-TIME:0
END:VEVENT
BEGIN:VEVENT
DTSTART;VALUE=DATE:20260904
DTEND;VALUE=DATE:20260906
UID:272CDF72-719A-4A2A-A589-4F219864E3BA
SUMMARY:Zwetschgenmarkt Heiligenbronn
CREATED:20260119T073735Z
DTSTAMP:20260119T073735Z
URL:https://feuerwehr-schramberg.de/termine/zwetschgenmarkt-heiligenbronn-2
DESCRIPTION:Infos folgen
X-ALT-DESC;FMTTYPE=text/html:<p>Infos folgen</p>
LAST-MODIFIED:20260204T081021Z
SEQUENCE:1384366
LOCATION:Kloster\, 78713 Schramberg\, Baden-Württemberg\, Deutschland
GEO:48.25902711;8.44833612
X-LOCATION-DISPLAYNAME:Festplatz Heiligenbronn
X-ACCESS:1
X-HITS:495
X-COLOR:e2001a
X-SHOW-END-TIME:0
END:VEVENT
BEGIN:VEVENT
DTSTART;TZID=Europe/Berlin:20261120T200000
DTEND;TZID=Europe/Berlin:20261120T230000
UID:BBA4808D-ED1B-4E45-8845-7AD2DD5D0B3D
SUMMARY:Hauptversammlung Abt. Heiligenbronn
CREATED:20260119T073141Z
DTSTAMP:20260119T073141Z
URL:https://feuerwehr-schramberg.de/termine/hauptversammlung-abt-heiligenbronn-3
LAST-MODIFIED:20260119T073625Z
SEQUENCE:284
LOCATION:Waldmössinger Straße 53/2\, 78713 Schramberg\, Deutschland
GEO:48.25625155;8.44900759
X-LOCATION-DISPLAYNAME:Gerätehaus Heiligenbronn
X-ACCESS:1
X-HITS:560
X-COLOR:e2001a
X-SHOW-END-TIME:0
END:VEVENT
BEGIN:VEVENT
DTSTART;TZID=Europe/Berlin:20261127T200000
DTEND;TZID=Europe/Berlin:20261127T230000
UID:168FFD61-1310-4603-9BFF-D0EF979E14FD
SUMMARY:Hauptversammlung Abt. Sulgen
CREATED:20260204T081216Z
DTSTAMP:20260204T081216Z
URL:https://feuerwehr-schramberg.de/termine/hauptversammlung-abt-sulgen-3
LAST-MODIFIED:20260204T081216Z
SEQUENCE:0
LOCATION:Rottweiler Straße  58/1\, 78713 Schramberg\, Deutschland
GEO:48.22582000;8.43070105
X-LOCATION-DISPLAYNAME:Gerätehaus Sulgen
X-ACCESS:1
X-HITS:82
X-COLOR:e2001a
X-SHOW-END-TIME:0
END:VEVENT
BEGIN:VEVENT
DTSTART;TZID=Europe/Berlin:20261204T200000
DTEND;TZID=Europe/Berlin:20261204T200000
UID:CA610D27-7027-4D61-832A-5E1054353FFE
SUMMARY:Hauptversammlung Abt. Waldmössingen
CREATED:20260204T075753Z
DTSTAMP:20260204T075753Z
URL:https://feuerwehr-schramberg.de/termine/hauptversammlung-abt-waldmoessingen-3
LAST-MODIFIED:20260204T080849Z
SEQUENCE:656
LOCATION:Seedorfer Straße 3\, 78713 Schramberg\, Deutschland
GEO:48.26871554;8.48620892
X-LOCATION-DISPLAYNAME:Gerätehaus Waldmössingen
X-ACCESS:1
X-HITS:200
X-COLOR:e2001a
X-SHOW-END-TIME:0
END:VEVENT
BEGIN:VEVENT
DTSTART;TZID=Europe/Berlin:20261211T200000
DTEND;TZID=Europe/Berlin:20261211T230000
UID:42A6EB3D-D841-4E9E-A61A-1B23F4B481B0
SUMMARY:Hauptversammlung Abt. Schramberg
CREATED:20260204T081123Z
DTSTAMP:20260204T081123Z
URL:https://feuerwehr-schramberg.de/termine/hauptversammlung-abt-schramberg-3
LAST-MODIFIED:20260204T081123Z
SEQUENCE:0
LOCATION:Am Mühlegraben 11\, 78713 Schramberg\, Deutschland
GEO:48.22381835;8.38566346
X-LOCATION-DISPLAYNAME:Gerätehaus Schramberg
X-ACCESS:1
X-HITS:287
X-COLOR:e2001a
X-SHOW-END-TIME:0
END:VEVENT
END:VCALENDAR